BEGIN:VCALENDAR
PRODID:-//eluceo/ical//2.0/EN
VERSION:2.0
CALSCALE:GREGORIAN
BEGIN:VEVENT
UID:c1e90b7c3cee4e299fcbe1947a08eed4
DTSTAMP:20260420T121738Z
SUMMARY:Indo- German exchange on Artificial Intelligence (AI) policies and 
 supporting standards
DESCRIPTION:
URL:https://www.gpqi.org/events_details/indo-german-exchange-on-artificial-
 intelligence-ai-policies-and-supporting-standards-and-their-role-in-suppor
 ting-development-of-ethical-and-responsible-ai-ecosystem.html
DTSTART:20260324T000000
DTEND:20260324T235959
LOCATION:Hybrid - The Metropolitan Hotel\, Bangla Sahib Road Connaught Plac
 e\, Sector 4\, Gole Market\, New Delhi & Online
END:VEVENT
BEGIN:VTIMEZONE
TZID:Europe/Berlin
BEGIN:STANDARD
DTSTART:20260324T000000
TZNAME:CET
TZOFFSETTO:+0100
TZOFFSETFROM:+0100
END:STANDARD
END:VTIMEZONE
END:VCALENDAR
